BEGIN:VCALENDAR
VERSION:2.0
PRODID:-//Contratero//ES
CALSCALE:GREGORIAN
METHOD:PUBLISH
BEGIN:VEVENT
UID:SSCC PA 231/24@contratero.es
DTSTAMP:20260421T090331Z
DTSTART:20250502T235959
DTEND:20250503T005959
SUMMARY:Cierre: Contrato mixto para la implantación de la nueva hi
DESCRIPTION:Contrato mixto para la implantación de la nueva historia clínica electrónica de Atención Primaria de les Illes Balears en el marco del Plan de Recuperación\, Transformación y Resiliencia - Financiado p...\\n\\nOrganismo: Servicio de Salud de las Illes Balears\\n\\nVer en Contratero: https://contratero.es/contracts/SSCC PA 231/24
URL:https://contratero.es/contracts/SSCC PA 231/24
STATUS:CONFIRMED
BEGIN:VALARM
TRIGGER:-P1D
ACTION:DISPLAY
DESCRIPTION:Recordatorio: Contrato mixto para la implant
END:VALARM
END:VEVENT
END:VCALENDAR